BEGIN:VCALENDAR
VERSION:2.0
PRODID:-//Pink Travels - ECPv4.6.12//NONSGML v1.0//EN
CALSCALE:GREGORIAN
METHOD:PUBLISH
X-WR-CALNAME:Pink Travels
X-ORIGINAL-URL:http://pinktravels.com.au
X-WR-CALDESC:Events for Pink Travels
BEGIN:VEVENT
DTSTART;TZID=UTC+0:20161102T180000
DTEND;TZID=UTC+0:20161102T193000
DTSTAMP:20190227T114654
CREATED:20150902T060550Z
LAST-MODIFIED:20160911T005705Z
UID:1276-1478109600-1478115000@pinktravels.com.au
SUMMARY:Bespoke Travel Info Evening - 2016
DESCRIPTION:\nAre you a cancer survivor?  Know someone who is?  This evening is for you. You are invited to a very special evening. Pink Travels is launching their 2017 Bespoke Trip to the Canadian Rockies at Escape Travel Burnside.  You will have the opportunity to meet a staff member from Liz Davenport Fashion who will be onsite to demonstrate “How to pack a suitcase”.  This is a must for all travellers so bring a friend or family member. Door prizes\, Champagne and nibbles on arrival.  Girls Night In fundraiser\, proceeds to be donated to the Cancer Council. \nRSVP by 28th October as places are limited. \nTo book please email: admin@pinktravels.com.au\nor call Jane on 0413 095 022. \nGo to www.pinktravels.com.au to find out more. \n  \n
URL:http://pinktravels.com.au/index.php/event/bespoke-travel-info-evening-2016/
LOCATION:433 Portrush Road\, Burnside\, SA\, 5065\, Australia
END:VEVENT
END:VCALENDAR