BEGIN:VCALENDAR
VERSION:2.0
PRODID:-//Pink Travels - ECPv4.6.12//NONSGML v1.0//EN
CALSCALE:GREGORIAN
METHOD:PUBLISH
X-WR-CALNAME:Pink Travels
X-ORIGINAL-URL:http://pinktravels.com.au
X-WR-CALDESC:Events for Pink Travels
BEGIN:VEVENT
DTSTART;TZID=UTC+0:20151031T140000
DTEND;TZID=UTC+0:20151031T163000
DTSTAMP:20190227T114748
CREATED:20150803T020158Z
LAST-MODIFIED:20160623T064353Z
UID:981-1446300000-1446309000@pinktravels.com.au
SUMMARY:Devonshire Tea - Kingston House - October 2015
DESCRIPTION:
URL:http://pinktravels.com.au/index.php/event/high-tea/
LOCATION:5 Cameron Avenue\, Kingston Park\, SA\, 5048\, Australia
ATTACH;FMTTYPE=image/jpeg:http://pinktravels.com.au/wp-content/uploads/2015/08/P1040826-e1440048676141.jpg
ORGANIZER;CN="Jane%20Wilkinson":MAILTO:admin@pinktravels.com.au
END:VEVENT
END:VCALENDAR