BEGIN:VCALENDAR
VERSION:2.0
PRODID:-//Pink Travels - ECPv4.6.12//NONSGML v1.0//EN
CALSCALE:GREGORIAN
METHOD:PUBLISH
X-WR-CALNAME:Pink Travels
X-ORIGINAL-URL:http://pinktravels.com.au
X-WR-CALDESC:Events for Pink Travels
BEGIN:VEVENT
DTSTART;TZID=UTC+0:20170504T100000
DTEND;TZID=UTC+0:20170528T110000
DTSTAMP:20190227T114808
CREATED:20150803T091737Z
LAST-MODIFIED:20160623T065141Z
UID:1023-1493892000-1495969200@pinktravels.com.au
SUMMARY:A Bespoke Journey - Itinerary 2017
DESCRIPTION:Pink Travels will be escorting cancer survivors with their family or friends on a vitalising escape to the rim of the Canadian Rockies.  We will be visiting the city of Vancouver\, Victoria\, Kelowna\, travelling to Lake Louise then onto Banff before returning to Vancouver via the Rocky Mountaineer. We will then board the American Holland cruise ship and cruise the Inside Passage for 7 days before returning to Vancouver then homeward bound to Adelaide.  Dates to be confirmed later this year. \nHere’s just some of the places we will be visiting: \n• The Empress Fairmont – Victoria\n• Butchart Gardens\n• Nitobe Memorial Gardens in Vancouver\n• Capilano Suspension Bridge\n• Kelowna – Okanagan Lavender Farm\n• Glacier Northern Lights Wolf Centre\n• Emerald Lake\n• Lake Louise\, The Fairmont Chateau Lake Louise – High Tea\n• Gondola rides in Lake Louise & Banff\n• Fairmont Banff Springs Hotel – High Tea \nThere will be so many special moments and memories made along this beautiful trip shared with other cancer survivors\, friends and family.   I can do this… we can do this together. \nBy clicking here\, you can download a digital PDF of our trip itinerary. \n
URL:http://pinktravels.com.au/index.php/event/reconnect-with-life/
LOCATION:Canada
END:VEVENT
END:VCALENDAR